Workbook

Sheet ВОР
A1: ВЕДОМОСТЬ ОБЪЕМОВ РАБОТ
A2: на выполнение работ по отделке фасада
A3: на объекте: "Многоэтажная жилая застройка 66га по адресу: г. Краснодар, Прикубанский внутригородской округ 2 этап освоения в соответствии с КРТ на земельном участке с кадастровым номером: 23:43:0143021:78532 6 этап строительства Корректировка 1 Литер 14"
A4: Данные об организации | G4: Наименование компании
G5: ИНН
G6: Адрес
G7: ФИО директора
G8: ФИО контактного лица/телефон, e-mail
G9: Система налогооблажения
A10: Условия оплаты: поэтапная оплата по факту предъявления актов выполненных работ, отсрочка платежа 30 календарных дней | G10: Да/Нет
A11: № п/п | B11: № по РД | C11: Код | D11: Наименование | E11: Ед. изм. | F11: Норма расхода | G11: Объём работ | H11: Цена за ед. изм., руб., без учета НДС | K11: Стоимость, руб., без учета НДС | N11: Примечание
H12: Всего | I12: в том числе | K12: Всего | L12: в том числе
I13: Работа | J13: Материалы | L13: Работа | M13: Материалы
A14: 1 | B14: 2 | C14: 3 | D14: 5 | E14: 6 | F14: 7 | G14: 8 | H14: 9 | I14: 10 | J14: 11 | K14: 12 | L14: 13 | M14: 14 | N14: 15
D15: Литер 14
A16: =IF(TRIM(G16)<>"",COUNTA(G$16:$G16)&"","") -> 1 | D16: Разработка проекта | E16: компл. | G16: 1 | H16: =I16+J16 -> 0 | K16: =L16+M16 -> 0 | L16: =I16*G16 -> 0 | N16: Технологическая карта (прорисовка узлов премыкания, раскрой материала)
A17: =IF(TRIM(G17)<>"",COUNTA(G$16:$G17)&"","") | D17: БС-1
A18: =IF(TRIM(G18)<>"",COUNTA(G$16:$G18)&"","") | D18: Отделка фасада здания алюминиевыми композитными панелями | Q18: Код
A19: =IF(TRIM(G19)<>"",COUNTA(G$16:$G19)&"","") -> 2 | B19: 4 | D19: Устройство подсистемы и утепления (Тип 4, торцы плит) | E19: м2 | G19: 123.3 | H19: =I19+J19 -> 0 | K19: =L19+M19 -> 0 | L19: =I19*G19 -> 0 | M19: =J19*G19 -> 0 | N19: Материал подрядчика | O19: Тип 4 | P19: 2905-РД-14,15-АР6.1 лист 1.1 | Q19: 04.09.02.01
A20: =IF(TRIM(G20)<>"",COUNTA(G$16:$G20)&"","") -> 3 | D20: Минераловатный утеплитель толщ. 50 мм | E20: м3 | F20: 1.03 | G20: =расчет!L2*F20 -> 4.47 | H20: =I20+J20 -> 0 | K20: =L20+M20 -> 0 | L20: =I20*G20 -> 0 | M20: =J20*G20 -> 0 | N20: Материал подрядчика
A21: =IF(TRIM(G21)<>"",COUNTA(G$16:$G21)&"","") -> 4 | B21: 4 | D21: Облицовка вентилируемого фасада композитными панелями (Тип 4, торцы плит) | E21: м2 | G21: =G19 -> 123.3 | H21: =I21+J21 -> 0 | K21: =L21+M21 -> 0 | L21: =I21*G21 -> 0 | M21: =J21*G21 -> 0 | N21: RAL7004 Материал подрядчика | O21: Тип 4 | P21: 2905-РД-14,15-АР6.1 лист 1.1 | Q21: 04.09.02.02
A22: =IF(TRIM(G22)<>"",COUNTA(G$16:$G22)&"","") -> 5 | B22: 5 | D22: Устройство подсистемы и утепления (Тип 5, декоративные элементы) | E22: м2 | G22: 398.54 | H22: =I22+J22 -> 0 | K22: =L22+M22 -> 0 | L22: =I22*G22 -> 0 | M22: =J22*G22 -> 0 | N22: Материал подрядчика | O22: Тип 5 | P22: 2905-РД-14,15-АР6.1 лист 1.1 | Q22: 04.09.02.01
A23: =IF(TRIM(G23)<>"",COUNTA(G$16:$G23)&"","") -> 6 | D23: Минераловатный утеплитель толщ. 50 мм | E23: м3 | F23: 1.03 | G23: =расчет!L3*F23 -> 2.45 | H23: =I23+J23 -> 0 | K23: =L23+M23 -> 0 | L23: =I23*G23 -> 0 | M23: =J23*G23 -> 0 | N23: Материал подрядчика
A24: =IF(TRIM(G24)<>"",COUNTA(G$16:$G24)&"","") -> 7 | D24: Минераловатный утеплитель толщ. 80 мм | E24: м3 | F24: 1.03 | G24: =расчет!L4*F24 -> 7.5 | H24: =I24+J24 -> 0 | K24: =L24+M24 -> 0 | L24: =I24*G24 -> 0 | M24: =J24*G24 -> 0 | N24: Материал подрядчика
A25: =IF(TRIM(G25)<>"",COUNTA(G$16:$G25)&"","") -> 8 | B25: 5 | D25: Облицовка вентилируемого фасада композитными панелями (Тип 5, декоративные элементы) | E25: м2 | G25: =G22 -> 398.54 | H25: =I25+J25 -> 0 | K25: =L25+M25 -> 0 | L25: =I25*G25 -> 0 | M25: =J25*G25 -> 0 | N25: RAL7004 Материал подрядчика | O25: Тип 5 | P25: 2905-РД-14,15-АР6.1 лист 1.1 | Q25: 04.09.02.02
A26: =IF(TRIM(G26)<>"",COUNTA(G$16:$G26)&"","") -> 9 | B26: 9 | D26: Устройство подсистемы и утепления (Тип 9, стены, парапет) | E26: м2 | G26: 69.5 | H26: =I26+J26 -> 0 | K26: =L26+M26 -> 0 | L26: =I26*G26 -> 0 | M26: =J26*G26 -> 0 | N26: Материал подрядчика | O26: Тип 9 | P26: 2905-РД-14,15-АР6.1 лист 1.1 | Q26: 04.09.02.01
A27: =IF(TRIM(G27)<>"",COUNTA(G$16:$G27)&"","") -> 10 | D27: Минераловатный утеплитель толщ. 80 мм | E27: м3 | F27: 1.03 | G27: =(расчет!L5+расчет!L6)*F27 -> 5.62 | H27: =I27+J27 -> 0 | K27: =L27+M27 -> 0 | L27: =I27*G27 -> 0 | M27: =J27*G27 -> 0 | N27: Материал подрядчика
A28: =IF(TRIM(G28)<>"",COUNTA(G$16:$G28)&"","") -> 11 | B28: 9 | D28: Облицовка вентилируемого фасада композитными панелями (Тип 9, стены, парапет) | E28: м2 | G28: =G26 -> 69.5 | H28: =I28+J28 -> 0 | K28: =L28+M28 -> 0 | L28: =I28*G28 -> 0 | M28: =J28*G28 -> 0 | N28: RAL7004 Материал подрядчика | O28: Тип 9 | P28: 2905-РД-14,15-АР6.1 лист 1.1 | Q28: 04.09.02.02
A29: =IF(TRIM(G29)<>"",COUNTA(G$16:$G29)&"","") -> 12 | B29: 13 | D29: Устройство подсистемы и утепления (Тип 13, основа под вывесу, декоративные элементы) | E29: м2 | G29: 2.56 | H29: =I29+J29 -> 0 | K29: =L29+M29 -> 0 | L29: =I29*G29 -> 0 | M29: =J29*G29 -> 0 | N29: Материал подрядчика | O29: Тип 13 | P29: 2905-РД-14,15-АР6.1 лист 1.1 | Q29: 04.09.02.01
A30: =IF(TRIM(G30)<>"",COUNTA(G$16:$G30)&"","") -> 13 | D30: Минераловатный утеплитель толщ. 80 мм | E30: м3 | F30: 1.03 | G30: =расчет!L7*F30 -> 0.72 | H30: =I30+J30 -> 0 | K30: =L30+M30 -> 0 | L30: =I30*G30 -> 0 | M30: =J30*G30 -> 0 | N30: Материал подрядчика
A31: =IF(TRIM(G31)<>"",COUNTA(G$16:$G31)&"","") -> 14 | B31: 13 | D31: Облицовка вентилируемого фасада композитными панелями (Тип 13, основа под вывесу, декоративные элементы) | E31: м2 | G31: =G29 -> 2.56 | H31: =I31+J31 -> 0 | K31: =L31+M31 -> 0 | L31: =I31*G31 -> 0 | M31: =J31*G31 -> 0 | N31: RAL1013 Материал подрядчика | O31: Тип 13 | P31: 2905-РД-14,15-АР6.1 лист 1.1 | Q31: 04.09.02.02
A32: =IF(TRIM(G32)<>"",COUNTA(G$16:$G32)&"","") -> 15 | B32: 11 | D32: Устройство подсистемы и утепления (Тип 11, стены) | E32: м2 | G32: 26.04 | H32: =I32+J32 -> 0 | K32: =L32+M32 -> 0 | L32: =I32*G32 -> 0 | M32: =J32*G32 -> 0 | N32: Материал подрядчика | O32: Тип 11 | P32: 2905-РД-14,15-АР6.1 лист 1.1 | Q32: 04.09.02.01
A33: =IF(TRIM(G33)<>"",COUNTA(G$16:$G33)&"","") -> 16 | D33: Минераловатный утеплитель толщ. 80 мм | E33: м3 | F33: 1.03 | G33: =SUM(расчет!L8:L15)*F33 -> 2.13 | H33: =I33+J33 -> 0 | K33: =L33+M33 -> 0 | L33: =I33*G33 -> 0 | M33: =J33*G33 -> 0 | N33: Материал подрядчика
A34: =IF(TRIM(G34)<>"",COUNTA(G$16:$G34)&"","") -> 17 | B34: 11 | D34: Облицовка вентилируемого фасада композитными панелями (Тип 11, стены) | E34: м2 | G34: =G32 -> 26.04 | H34: =I34+J34 -> 0 | K34: =L34+M34 -> 0 | L34: =I34*G34 -> 0 | M34: =J34*G34 -> 0 | N34: RAL1013 Материал подрядчика | O34: Тип 11 | P34: 2905-РД-14,15-АР6.1 лист 1.1 | Q34: 04.09.02.02
A35: =IF(TRIM(G35)<>"",COUNTA(G$16:$G35)&"","") | D35: БС-2
A36: =IF(TRIM(G36)<>"",COUNTA(G$16:$G36)&"","") | D36: Отделка фасада здания алюминиевыми композитными панелями | Q36: Код
A37: =IF(TRIM(G37)<>"",COUNTA(G$16:$G37)&"","") -> 18 | B37: 4 | D37: Устройство подсистемы и утепления (Тип 4, торцы плит) | E37: м2 | G37: 97.58 | H37: =I37+J37 -> 0 | K37: =L37+M37 -> 0 | L37: =I37*G37 -> 0 | M37: =J37*G37 -> 0 | N37: Материал подрядчика | O37: Тип 4 | P37: 2905-РД-14,15-АР6.1 лист 4 | Q37: 04.09.02.01
A38: =IF(TRIM(G38)<>"",COUNTA(G$16:$G38)&"","") -> 19 | D38: Минераловатный утеплитель толщ. 50 мм | E38: м3 | F38: 1.03 | G38: =расчет!L16*F38 -> 3.5 | H38: =I38+J38 -> 0 | K38: =L38+M38 -> 0 | L38: =I38*G38 -> 0 | M38: =J38*G38 -> 0 | N38: Материал подрядчика
A39: =IF(TRIM(G39)<>"",COUNTA(G$16:$G39)&"","") -> 20 | B39: 4 | D39: Облицовка вентилируемого фасада композитными панелями (Тип 4, торцы плит) | E39: м2 | G39: =G37 -> 97.58 | H39: =I39+J39 -> 0 | K39: =L39+M39 -> 0 | L39: =I39*G39 -> 0 | M39: =J39*G39 -> 0 | N39: RAL7004 Материал подрядчика | O39: Тип 4 | P39: 2905-РД-14,15-АР6.1 лист 4 | Q39: 04.09.02.02
A40: =IF(TRIM(G40)<>"",COUNTA(G$16:$G40)&"","") -> 21 | B40: 5 | D40: Устройство подсистемы и утепления (Тип 5, декоративные элементы) | E40: м2 | G40: 331.86 | H40: =I40+J40 -> 0 | K40: =L40+M40 -> 0 | L40: =I40*G40 -> 0 | M40: =J40*G40 -> 0 | N40: Материал подрядчика | O40: Тип 5 | P40: 2905-РД-14,15-АР6.1 лист 4 | Q40: 04.09.02.01
...

Sheet расчет
D1: Литер | E1: БС | F1: Тип по РД | G1: Описание | H1: Ширина, м | I1: Толщина, м | J1: Длина, м | K1: Площадь, м2 | L1: Объем, м3
D2: 14 | E2: 1 | F2: 4 | G2: Тип 4 дефшов. Утепление ширина 0,2 м толщина 0,05 м | H2: 0.2 | I2: 0.05 | J2: 434.04 | K2: =H2*J2 -> 86.81 | L2: =Таблица1[[#This Row],[Площадь, м2]]*Таблица1[[#This Row],[Толщина, м]] -> 4.34
D3: 14 | E3: 1 | F3: 5 | G3: Тип 5 Утепление ширина 0,2 м толщина 0,05 м | H3: 0.2 | I3: 0.05 | J3: 238.28 | K3: =H3*J3 -> 47.66 | L3: =Таблица1[[#This Row],[Площадь, м2]]*Таблица1[[#This Row],[Толщина, м]] -> 2.38
D4: 14 | E4: 1 | F4: 5 | G4: Тип 5 Утепление ширина 1,937 м толщина 0,08 м | H4: 1.937 | I4: 0.08 | J4: 47 | K4: =H4*J4 -> 91.04 | L4: =Таблица1[[#This Row],[Площадь, м2]]*Таблица1[[#This Row],[Толщина, м]] -> 7.28
D5: 14 | E5: 1 | F5: 9 | G5: Тип 9 Утепление ширина 1,086 м толщина 0,08 м | H5: 1.086 | I5: 0.08 | J5: 21.12 | K5: =H5*J5 -> 22.94 | L5: =Таблица1[[#This Row],[Площадь, м2]]*Таблица1[[#This Row],[Толщина, м]] -> 1.84
D6: 14 | E6: 1 | F6: 9 | G6: Тип 9 Утепление ширина 2,3 м толщина 0,08 м | H6: 2.3 | I6: 0.08 | J6: 19.67 | K6: =H6*J6 -> 45.24 | L6: =Таблица1[[#This Row],[Площадь, м2]]*Таблица1[[#This Row],[Толщина, м]] -> 3.62
D7: 14 | E7: 1 | F7: 13 | G7: Тип 13 Утепление ширина 2,058 м толщина 0,08 м | H7: 2.058 | I7: 0.08 | J7: 4.24 | K7: =H7*J7 -> 8.73 | L7: =Таблица1[[#This Row],[Площадь, м2]]*Таблица1[[#This Row],[Толщина, м]] -> 0.7
D8: 14 | E8: 1 | F8: 11 | G8: Тип 11 Утепление ширина 0,5 м толщина 0,08 м | H8: 0.45 | I8: 0.08 | J8: 3.3 | K8: =H8*J8 -> 1.49 | L8: =Таблица1[[#This Row],[Площадь, м2]]*Таблица1[[#This Row],[Толщина, м]] -> 0.12
D9: 14 | E9: 1 | F9: 11 | G9: Тип 11 Утепление ширина 1,05 м толщина 0,08 м | H9: 0.495 | I9: 0.08 | J9: 3.3 | K9: =H9*J9 -> 1.63 | L9: =Таблица1[[#This Row],[Площадь, м2]]*Таблица1[[#This Row],[Толщина, м]] -> 0.13
D10: 14 | E10: 1 | F10: 11 | G10: Тип 11 Утепление ширина 1 м толщина 0,08 м | H10: 1.2 | I10: 0.08 | J10: 3.3 | K10: =H10*J10 -> 3.96 | L10: =Таблица1[[#This Row],[Площадь, м2]]*Таблица1[[#This Row],[Толщина, м]] -> 0.32
D11: 14 | E11: 1 | F11: 11 | G11: Тип 11 Утепление ширина 1 м толщина 0,08 м | H11: 1.2 | I11: 0.08 | J11: 3.3 | K11: =H11*J11 -> 3.96 | L11: =Таблица1[[#This Row],[Площадь, м2]]*Таблица1[[#This Row],[Толщина, м]] -> 0.32
D12: 14 | E12: 1 | F12: 11 | G12: Тип 11 Утепление ширина 1 м толщина 0,08 м | H12: 1.2 | I12: 0.08 | J12: 3.3 | K12: =H12*J12 -> 3.96 | L12: =Таблица1[[#This Row],[Площадь, м2]]*Таблица1[[#This Row],[Толщина, м]] -> 0.32
D13: 14 | E13: 1 | F13: 11 | G13: Тип 11 Утепление ширина 1 м толщина 0,08 м | H13: 1.2 | I13: 0.08 | J13: 3.3 | K13: =H13*J13 -> 3.96 | L13: =Таблица1[[#This Row],[Площадь, м2]]*Таблица1[[#This Row],[Толщина, м]] -> 0.32
... D71: 14 | E71: 5 | F71: 11 | G71: Тип 11 Утепление ширина 0,875 м толщина 0,08 м | H71: 0.7 | I71: 0.08 | J71: 3.3 | K71: =H71*J71 -> 2.31 | L71: =Таблица1[[#This Row],[Площадь, м2]]*Таблица1[[#This Row],[Толщина, м]] -> 0.18
K72: =H72*J72 -> 0 | L72: =Таблица1[[#This Row],[Площадь, м2]]*Таблица1[[#This Row],[Толщина, м]] -> 0
K73: =H73*J73 -> 0 | L73: =Таблица1[[#This Row],[Площадь, м2]]*Таблица1[[#This Row],[Толщина, м]] -> 0
D74: 14 | K74: =H74*J74 -> 0 | L74: =Таблица1[[#This Row],[Площадь, м2]]*Таблица1[[#This Row],[Толщина, м]] -> 0
D75: 14 | K75: =H75*J75 -> 0 | L75: =Таблица1[[#This Row],[Площадь, м2]]*Таблица1[[#This Row],[Толщина, м]] -> 0
D76: 14 | K76: =H76*J76 -> 0 | L76: =Таблица1[[#This Row],[Площадь, м2]]*Таблица1[[#This Row],[Толщина, м]] -> 0
K77: =H77*J77 -> 0 | L77: =Таблица1[[#This Row],[Площадь, м2]]*Таблица1[[#This Row],[Толщина, м]] -> 0
D78: Итог | K78: =SUBTOTAL(109,Таблица1[Площадь, м2]) -> 1489.01 | L78: =SUBTOTAL(109,Таблица1[Объем, м3]) -> 101.96
