Workbook

Sheet ВОР
A1: ВЕДОМОСТЬ ОБЪЕМОВ РАБОТ
A2: на выполнение работ по отделке фасада
A3: на объекте: Многоэтажная жилая застройка 66га по адресу: г. Краснодар, Прикубанский внутригородской округ. 2 этап освоения в соответствии с КРТ» на земельном участке с кадастровым номером: 23:43:0143021:78532, 6 этап строительства. Корректировка 1. Литер 15
A4: Данные об организации | H4: Наименование компании
H5: ИНН
H6: Адрес
H7: ФИО директора
H8: ФИО контактного лица/телефон, e-mail
H9: Система налогооблажения
A10: Условия оплаты: поэтапная оплата по факту предъявления актов выполненных работ, отсрочка платежа 30 кал. дней | H10: Да/Нет
A11: № п/п | B11: № по РД | C11: Код | D11: БС/этажи | E11: Наименование | F11: Ед. изм. | G11: Норма расхода | H11: Объём работ | I11: Цена за ед. изм., руб., без учета НДС | L11: Стоимость, руб., без учета НДС | O11: Примечание
I12: Всего | J12: в том числе | L12: Всего | M12: в том числе
J13: Работа | K13: Материалы | M13: Работа | N13: Материалы
A14: 1 | B14: 2 | C14: 3 | D14: 4 | E14: 5 | F14: 6 | G14: 7 | H14: 8 | I14: 9 | J14: 10 | K14: 11 | L14: 12 | M14: 13 | N14: 14 | O14: 15
A15: =IF(TRIM(H15)<>"",COUNTA(H$15:$H15)&"","") -> 1 | E15: Разработка проекта | F15: компл. | H15: 1 | I15: =J15+K15 -> 0 | L15: =M15+N15 -> 0 | M15: =J15*H15 -> 0 | N15: =K15*H15 -> 0 | O15: Технологическая карта (прорисовка узлов премыкания, раскрой материала)
A16: =A15+1 -> 2 | E16: Отделка фасада здания алюминиевыми композитными панелями | I16: =J16+K16 -> 0 | L16: =M16+N16 -> 0 | M16: =J16*H16 -> 0 | N16: =K16*H16 -> 0 | R16: Код
A17: =A16+1 -> 3 | B17: 4 | D17: БС-1/1-8 | E17: Устройство подсистемы и утепления (Тип 4, торцы плит) | F17: м2 | H17: 146 | I17: =J17+K17 -> 0 | L17: =M17+N17 -> 0 | M17: =J17*H17 -> 0 | N17: =K17*H17 -> 0 | O17: Материал подрядчика | P17: Тип 4 | Q17: 2905-РД-14,15-АР6.2 лист 2 | R17: 04.09.02.01
A18: =A17+1 -> 4 | E18: Минераловатный утеплитель толщ. 50 мм | F18: м3 | G18: 1.03 | H18: =расчет!K2*G18 -> 4.84 | O18: Материал подрядчика
A19: =A18+1 -> 5 | B19: 4 | D19: БС-1/1-8 | E19: Облицовка вентилируемого фасада композитными панелями (Тип 4, торцы плит) | F19: м2 | H19: =H17 -> 146 | I19: =J19+K19 -> 0 | L19: =M19+N19 -> 0 | M19: =J19*H19 -> 0 | N19: =K19*H19 -> 0 | O19: RAL7004 Материал подрядчика | P19: Тип 4 | Q19: 2905-РД-14,15-АР6.2 лист 2 | R19: 04.09.02.02
A20: =A19+1 -> 6 | B20: 5 | D20: БС-1/1-8 | E20: Устройство подсистемы и утепления (Тип 5, декоративные элементы) | F20: м2 | H20: 485 | I20: =J20+K20 -> 0 | L20: =M20+N20 -> 0 | M20: =J20*H20 -> 0 | N20: =K20*H20 -> 0 | O20: Материал подрядчика | P20: Тип 5 | Q20: 2905-РД-14,15-АР6.2 лист 2 | R20: 04.09.02.01
A21: =A20+1 -> 7 | E21: Минераловатный утеплитель толщ. 50 мм | F21: м3 | G21: 1.03 | H21: =расчет!K3*G21 -> 1.96 | I21: =J21+K21 -> 0 | L21: =M21+N21 -> 0 | M21: =J21*H21 -> 0 | N21: =K21*H21 -> 0 | O21: Материал подрядчика
A22: =A21+1 -> 8 | E22: Минераловатный утеплитель толщ. 80 мм | F22: м3 | G22: 1.03 | H22: =расчет!K4*G22 -> 5.18 | I22: =J22+K22 -> 0 | L22: =M22+N22 -> 0 | M22: =J22*H22 -> 0 | N22: =K22*H22 -> 0 | O22: Материал подрядчика
A23: =A22+1 -> 9 | B23: 5 | D23: БС-1/1-8 | E23: Облицовка вентилируемого фасада композитными панелями (Тип 5, декоративные элементы) | F23: м2 | H23: =H20 -> 485 | I23: =J23+K23 -> 0 | L23: =M23+N23 -> 0 | M23: =J23*H23 -> 0 | N23: =K23*H23 -> 0 | O23: RAL7004 Материал подрядчика | P23: Тип 5 | Q23: 2905-РД-14,15-АР6.2 лист 2 | R23: 04.09.02.02
A24: =A23+1 -> 10 | B24: 9 | D24: БС-1/1-8 | E24: Устройство подсистемы и утепления (Тип 9, стены, парапет) | F24: м2 | H24: 48 | I24: =J24+K24 -> 0 | L24: =M24+N24 -> 0 | M24: =J24*H24 -> 0 | N24: =K24*H24 -> 0 | O24: Материал подрядчика | P24: Тип 9 | Q24: 2905-РД-14,15-АР6.2 лист 2 | R24: 04.09.02.01
A25: =A24+1 -> 11 | E25: Минераловатный утеплитель толщ. 80 мм | F25: м3 | G25: 1.03 | H25: =(расчет!K5+расчет!K6)*G25 -> 4.93 | I25: =J25+K25 -> 0 | L25: =M25+N25 -> 0 | M25: =J25*H25 -> 0 | N25: =K25*H25 -> 0 | O25: Материал подрядчика
A26: =A25+1 -> 12 | B26: 9 | D26: БС-1/1-8 | E26: Облицовка вентилируемого фасада композитными панелями (Тип 9, стены, парапет) | F26: м2 | H26: =H24 -> 48 | I26: =J26+K26 -> 0 | L26: =M26+N26 -> 0 | M26: =J26*H26 -> 0 | N26: =K26*H26 -> 0 | O26: RAL7004 Материал подрядчика | P26: Тип 9 | Q26: 2905-РД-14,15-АР6.2 лист 2 | R26: 04.09.02.02
A27: =A26+1 -> 13 | B27: 13 | D27: БС-1/1-2 | E27: Устройство подсистемы и утепления (Тип 13, основа под вывесу, декоративные элементы) | F27: м2 | H27: 3 | I27: =J27+K27 -> 0 | L27: =M27+N27 -> 0 | M27: =J27*H27 -> 0 | N27: =K27*H27 -> 0 | O27: Материал подрядчика | P27: Тип 13 | Q27: 2905-РД-14,15-АР6.2 лист 2 | R27: 04.09.02.01
A28: =A27+1 -> 14 | E28: Минераловатный утеплитель толщ. 80 мм | F28: м3 | G28: 1.03 | H28: =расчет!K7*G28 -> 0.89 | I28: =J28+K28 -> 0 | L28: =M28+N28 -> 0 | M28: =J28*H28 -> 0 | N28: =K28*H28 -> 0 | O28: Материал подрядчика
A29: =A28+1 -> 15 | B29: 13 | D29: БС-1/1-2 | E29: Облицовка вентилируемого фасада композитными панелями (Тип 13, основа под вывесу, декоративные элементы) | F29: м2 | H29: =H27 -> 3 | I29: =J29+K29 -> 0 | L29: =M29+N29 -> 0 | M29: =J29*H29 -> 0 | N29: =K29*H29 -> 0 | O29: RAL1013 Материал подрядчика | P29: Тип 13 | Q29: 2905-РД-14,15-АР6.2 лист 2 | R29: 04.09.02.02
A30: =A29+1 -> 16 | B30: 11 | D30: БС-1/1-2 | E30: Устройство подсистемы и утепления (Тип 11, стены) | F30: м2 | H30: 47 | I30: =J30+K30 -> 0 | L30: =M30+N30 -> 0 | M30: =J30*H30 -> 0 | N30: =K30*H30 -> 0 | O30: Материал подрядчика | P30: Тип 11 | Q30: 2905-РД-14,15-АР6.2 лист 2 | R30: 04.09.02.01
A31: =A30+1 -> 17 | E31: Минераловатный утеплитель толщ. 80 мм | F31: м3 | G31: 1.03 | H31: =SUM(расчет!K8:K15)*G31 -> 1.93 | I31: =J31+K31 -> 0 | L31: =M31+N31 -> 0 | M31: =J31*H31 -> 0 | N31: =K31*H31 -> 0 | O31: Материал подрядчика
A32: =A31+1 -> 18 | B32: 11 | D32: БС-1/1-2 | E32: Облицовка вентилируемого фасада композитными панелями (Тип 11, стены) | F32: м2 | H32: =H30 -> 47 | I32: =J32+K32 -> 0 | L32: =M32+N32 -> 0 | M32: =J32*H32 -> 0 | N32: =K32*H32 -> 0 | O32: RAL1013 Материал подрядчика | P32: Тип 11 | Q32: 2905-РД-14,15-АР6.2 лист 2 | R32: 04.09.02.02
L33: =SUM(L15:L32) -> 0 | M33: =SUM(M15:M32) -> 0 | N33: =SUM(N16:N32) -> 0
A34: Итого, руб., без учета НДС | L34: =L33 -> 0
A35: НДС 22% | L35: =L34*0.22 -> 0
A36: Итого, руб., с учетом НДС | L36: =L34+L35 -> 0
A37: Примечания:
A38: 1. Монтаж конструкции из композитных панелей выполняется по отдельному проекту разработанному специализированной организацией
A39: 2. Размеры уточнить по месту перед тем, как начать нарезку элементов мерной длины
A40: 3. Габаритные размеры декоративных элементов навесных фасадных систем уточнить фирмой производителем
...

Sheet расчет
D1: № п/п | E1: Тип по РД | F1: Описание | G1: Ширина, м | H1: Толщина, м | I1: Длина, м | J1: Площадь, м2 | K1: Объем, м3
D2: 1 | E2: 4 | F2: Тип 4 дефшов. Утепление ширина 0,2 м толщина 0,05 м | G2: 0.2 | H2: 0.05 | I2: 470.2 | J2: =G2*I2 -> 94.04 | K2: =Таблица1[[#This Row],[Площадь, м2]]*Таблица1[[#This Row],[Толщина, м]] -> 4.7
D3: 2 | E3: 5 | F3: Тип 5 Утепление ширина 0,2 м толщина 0,05 м | G3: 0.2 | H3: 0.05 | I3: 189.92 | J3: =G3*I3 -> 37.98 | K3: =Таблица1[[#This Row],[Площадь, м2]]*Таблица1[[#This Row],[Толщина, м]] -> 1.9
D4: 3 | E4: 5 | F4: Тип 5 Утепление ширина 1,937 м толщина 0,08 м | G4: 1.937 | H4: 0.08 | I4: 32.47 | J4: =G4*I4 -> 62.89 | K4: =Таблица1[[#This Row],[Площадь, м2]]*Таблица1[[#This Row],[Толщина, м]] -> 5.03
D5: 4 | E5: 9 | F5: Тип 9 Утепление ширина 1,086 м толщина 0,08 м | G5: 1.086 | H5: 0.08 | I5: 22.13 | J5: =G5*I5 -> 24.03 | K5: =Таблица1[[#This Row],[Площадь, м2]]*Таблица1[[#This Row],[Толщина, м]] -> 1.92
D6: 5 | E6: 9 | F6: Тип 9 Утепление ширина 2,3 м толщина 0,08 м | G6: 2.3 | H6: 0.08 | I6: 15.62 | J6: =G6*I6 -> 35.93 | K6: =Таблица1[[#This Row],[Площадь, м2]]*Таблица1[[#This Row],[Толщина, м]] -> 2.87
D7: 6 | E7: 13 | F7: Тип 13 Утепление ширина 2,058 м толщина 0,08 м | G7: 2.058 | H7: 0.08 | I7: 5.24 | J7: =G7*I7 -> 10.78 | K7: =Таблица1[[#This Row],[Площадь, м2]]*Таблица1[[#This Row],[Толщина, м]] -> 0.86
D8: 7 | E8: 11 | F8: Тип 11 Утепление ширина 0,5 м толщина 0,08 м | G8: 0.5 | H8: 0.08 | I8: 3.3 | J8: =G8*I8 -> 1.65 | K8: =Таблица1[[#This Row],[Площадь, м2]]*Таблица1[[#This Row],[Толщина, м]] -> 0.13
D9: 8 | E9: 11 | F9: Тип 11 Утепление ширина 1,05 м толщина 0,08 м | G9: 1.05 | H9: 0.08 | I9: 3.3 | J9: =G9*I9 -> 3.47 | K9: =Таблица1[[#This Row],[Площадь, м2]]*Таблица1[[#This Row],[Толщина, м]] -> 0.28
D10: 9 | E10: 11 | F10: Тип 11 Утепление ширина 1 м толщина 0,08 м | G10: 1 | H10: 0.08 | I10: 3.3 | J10: =G10*I10 -> 3.3 | K10: =Таблица1[[#This Row],[Площадь, м2]]*Таблица1[[#This Row],[Толщина, м]] -> 0.26
D11: 10 | E11: 11 | F11: Тип 11 Утепление ширина 1 м толщина 0,08 м | G11: 1 | H11: 0.08 | I11: 3.3 | J11: =G11*I11 -> 3.3 | K11: =Таблица1[[#This Row],[Площадь, м2]]*Таблица1[[#This Row],[Толщина, м]] -> 0.26
D12: 11 | E12: 11 | F12: Тип 11 Утепление ширина 1 м толщина 0,08 м | G12: 1 | H12: 0.08 | I12: 3.3 | J12: =G12*I12 -> 3.3 | K12: =Таблица1[[#This Row],[Площадь, м2]]*Таблица1[[#This Row],[Толщина, м]] -> 0.26
D13: 12 | E13: 11 | F13: Тип 11 Утепление ширина 1 м толщина 0,08 м | G13: 1 | H13: 0.08 | I13: 3.3 | J13: =G13*I13 -> 3.3 | K13: =Таблица1[[#This Row],[Площадь, м2]]*Таблица1[[#This Row],[Толщина, м]] -> 0.26
D14: 13 | E14: 11 | F14: Тип 11 Утепление ширина 0,73 м толщина 0,08 м | G14: 0.73 | H14: 0.08 | I14: 3.3 | J14: =G14*I14 -> 2.41 | K14: =Таблица1[[#This Row],[Площадь, м2]]*Таблица1[[#This Row],[Толщина, м]] -> 0.19
E15: 11 | F15: Тип 11 Утепление ширина 0,875 м толщина 0,08 м | G15: 0.875 | H15: 0.08 | I15: 3.3 | J15: =G15*I15 -> 2.89 | K15: =Таблица1[[#This Row],[Площадь, м2]]*Таблица1[[#This Row],[Толщина, м]] -> 0.23
D16: Итог | J16: =SUBTOTAL(109,Таблица1[Площадь, м2]) -> 289.27 | K16: =SUBTOTAL(109,Таблица1[Объем, м3]) -> 19.15
