Workbook

Sheet ВОР
A1: ВЕДОМОСТЬ ОБЪЕМОВ РАБОТ
A2: на выполнение строительно-монтажных работ по устройству кровли
A3: на объекте: "Многоквартирный жилой комплекс по адресу: Краснодарский край, р-н Динской, п. Южный. 2 очередь". Литер 8
A4: № п/п | B4: Наименование работ | C4: Ед. изм. | D4: Норма расхода | E4: Объём работ | F4: Цена за ед. изм., руб. без НДС | I4: Стоимость, руб. без НДС | L4: Примечание
F5: всего | G5: в том числе | I5: всего | J5: в том числе
G6: Работа | H6: Материалы | J6: Работа | K6: Материалы
A7: 1 | B7: 2 | C7: 3 | D7: 4 | E7: 5 | F7: 6 | G7: 7 | H7: 8 | I7: 9 | J7: 10 | K7: 11 | L7: 12
B8: Кровля секция 1, 2
B9: Раздел 1. Основная кровля (Тип 1, 2)
A10: =IF(TRIM(E10)<>"",COUNTA($E10:E$10)&"","") -> 1 | B10: Огрунтовка поверхности ж/б плиты битумным праймером с учётом примыканий на 350мм | C10: м2 | E10: =Расчет!E4+Расчет!E5+0.35*E28 -> 640.49 | F10: =G10+H10 -> 0 | I10: =J10+K10 -> 0 | J10: =ROUND(G10*E10,2) -> 0
A11: =IF(TRIM(E11)<>"",COUNTA($E$10:E11)&"","") -> 2 | B11: Праймер битумный ТЕХНОНИКОЛЬ №1 (или аналог) | C11: л | D11: 0.35 | E11: =E10*D11 -> 224.1715 | F11: =G11+H11 -> 0 | I11: =J11+K11 -> 0 | K11: =ROUND(H11*E11,2) -> 0 | L11: Материал подрядчика
A12: =IF(TRIM(E12)<>"",COUNTA($E$10:E12)&"","") -> 3 | B12: Укладка пароизоляции с учётом примыканий на 350мм | C12: м2 | E12: =E10 -> 640.49 | F12: =G12+H12 -> 0 | I12: =J12+K12 -> 0 | J12: =ROUND(G12*E12,2) -> 0
A13: =IF(TRIM(E13)<>"",COUNTA($E$10:E13)&"","") -> 4 | B13: Наплавляемый материал "Линокром ЭПП" (1 слой) или аналог-4 мм | C13: м2 | D13: 1.15 | E13: =E12*D13 -> 736.5635 | F13: =G13+H13 -> 0 | I13: =J13+K13 -> 0 | K13: =ROUND(H13*E13,2) -> 0 | L13: Материал подрядчика
A14: =IF(TRIM(E14)<>"",COUNTA($E$10:E14)&"","") -> 5 | B14: Пропан | C14: кг | D14: 0.3 | E14: =E12*D14 -> 192.147 | F14: =G14+H14 -> 0 | I14: =J14+K14 -> 0 | K14: =ROUND(H14*E14,2) -> 0 | L14: Материал подрядчика
A15: =IF(TRIM(E15)<>"",COUNTA($E$10:E15)&"","") -> 6 | B15: Устройство утепления 100мм | C15: м2 | E15: =Расчет!E4+Расчет!E5 -> 551.94 | F15: =G15+H15 -> 0 | I15: =J15+K15 -> 0 | J15: =ROUND(G15*E15,2) -> 0
A16: =IF(TRIM(E16)<>"",COUNTA($E$10:E16)&"","") -> 7 | B16: Экструзионный пенополистирол 100 мм. | C16: м3 | D16: 1.1 | E16: =E15*0.1*D16 -> 60.7134 | F16: =G16+H16 -> 0 | I16: =J16+K16 -> 0 | K16: =ROUND(H16*E16,2) -> 0 | L16: Материал подрядчика
A17: =IF(TRIM(E17)<>"",COUNTA($E$10:E17)&"","") -> 8 | B17: Устройство утепления 50мм | C17: м2 | E17: =E28*0.47 -> 118.91 | F17: =G17+H17 -> 0 | I17: =J17+K17 -> 0 | J17: =ROUND(G17*E17,2) -> 0
A18: =IF(TRIM(E18)<>"",COUNTA($E$10:E18)&"","") -> 9 | B18: Утеплитель ТЕХНОФАС ЭКСТРА 50 мм | C18: м3 | D18: 1.03 | E18: =E17*0.05*D18 -> 6.123865 | F18: =G18+H18 -> 0 | I18: =J18+K18 -> 0 | K18: =ROUND(H18*E18,2) -> 0 | L18: Материал подрядчика
A19: =IF(TRIM(E19)<>"",COUNTA($E$10:E19)&"","") -> 10 | B19: Фасадный крепеж TERMOCLIP | C19: шт | D19: 5 | E19: =ROUND(E17*D19,0) -> 595 | F19: =G19+H19 -> 0 | I19: =J19+K19 -> 0 | K19: =ROUND(H19*E19,2) -> 0 | L19: Материал подрядчика
A20: =IF(TRIM(E20)<>"",COUNTA($E$10:E20)&"","") -> 11 | B20: Штукатурка стен ЦПС М150 по сетке | C20: м2 | E20: =E17 -> 118.91 | F20: =G20+H20 -> 0 | I20: =J20+K20 -> 0 | J20: =ROUND(G20*E20,2) -> 0
A21: =IF(TRIM(E21)<>"",COUNTA($E$10:E21)&"","") -> 12 | B21: Раствор цементно-песчаный М150 | C21: м3 | D21: 1.015 | E21: =E20*0.02*D21 -> 2.413873 | F21: =G21+H21 -> 0 | I21: =J21+K21 -> 0 | K21: =ROUND(H21*E21,2) -> 0 | L21: Материал подрядчика
A22: =IF(TRIM(E22)<>"",COUNTA($E$10:E22)&"","") -> 13 | B22: Сетка 5 Вр1 с ячейкой 100х100 | C22: м2 | D22: 1.2 | E22: =E20*D22 -> 142.692 | F22: =G22+H22 -> 0 | I22: =J22+K22 -> 0 | K22: =ROUND(H22*E22,2) -> 0 | L22: Материал подрядчика
A23: =IF(TRIM(E23)<>"",COUNTA($E$10:E23)&"","") -> 14 | B23: Устройство слоя пароизоляции | C23: м2 | E23: =E15 -> 551.94 | F23: =G23+H23 -> 0 | I23: =J23+K23 -> 0 | J23: =ROUND(G23*E23,2) -> 0
A24: =IF(TRIM(E24)<>"",COUNTA($E$10:E24)&"","") -> 15 | B24: Пароизоляционная пленка 200 мкм | C24: м2 | D24: 1.15 | E24: =E23*D24 -> 634.731 | F24: =G24+H24 -> 0 | I24: =J24+K24 -> 0 | K24: =ROUND(H24*E24,2) -> 0 | L24: Материал подрядчика
A25: =IF(TRIM(E25)<>"",COUNTA($E$10:E25)&"","") -> 16 | B25: Устройство цементно-песчаной стяжки М 150 армированная сеткой 4 Вр1 с ячейкой 200х200 - толщ. от 50 мм до 100 мм, по уклону | C25: м2 | E25: =Расчет!E4+Расчет!E5 -> 551.94 | F25: =G25+H25 -> 0 | I25: =J25+K25 -> 0 | J25: =ROUND(G25*E25,2) -> 0
A26: =IF(TRIM(E26)<>"",COUNTA($E$10:E26)&"","") -> 17 | B26: Раствор цементно-песчаный М150 | C26: м3 | D26: 1.015 | E26: =(Расчет!L9-Расчет!K9)*D26 -> 77.812133 | F26: =G26+H26 -> 0 | I26: =J26+K26 -> 0 | K26: =ROUND(H26*E26,2) -> 0 | L26: Материал подрядчика
A27: =IF(TRIM(E27)<>"",COUNTA($E$10:E27)&"","") -> 18 | B27: Сетка 4 Вр1 с ячейкой 200х200 | C27: м2 | D27: 1.2 | E27: =E25*D27 -> 662.328 | F27: =G27+H27 -> 0 | I27: =J27+K27 -> 0 | K27: =ROUND(H27*E27,2) -> 0 | L27: Материал подрядчика
A28: =IF(TRIM(E28)<>"",COUNTA($E$10:E28)&"","") -> 19 | B28: Устройство галтели из цементно-песчаной стяжки М 150 , 100х100 | C28: м/п | E28: =Расчет!F8 -> 253 | F28: =G28+H28 -> 0 | I28: =J28+K28 -> 0 | J28: =ROUND(G28*E28,2) -> 0
A29: =IF(TRIM(E29)<>"",COUNTA($E$10:E29)&"","") -> 20 | B29: Раствор цементно-песчаный М150 | C29: м3 | D29: 0.005 | E29: =D29*E28 -> 1.265 | F29: =G29+H29 -> 0 | I29: =J29+K29 -> 0 | K29: =ROUND(H29*E29,2) -> 0 | L29: Материал подрядчика
A30: =IF(TRIM(E30)<>"",COUNTA($E$10:E30)&"","") -> 21 | B30: Огрунтовка поверхности ж/б плиты битумным праймером с учётом примыканий на 350мм | C30: м2 | E30: =E10 -> 640.49 | F30: =G30+H30 -> 0 | I30: =J30+K30 -> 0 | J30: =ROUND(G30*E30,2) -> 0
A31: =IF(TRIM(E31)<>"",COUNTA($E$10:E31)&"","") -> 22 | B31: Праймер битумный ТЕХНОНИКОЛЬ №1 (или аналог) | C31: л | D31: 0.35 | E31: =E30*D31 -> 224.1715 | F31: =G31+H31 -> 0 | I31: =J31+K31 -> 0 | K31: =ROUND(H31*E31,2) -> 0 | L31: Материал подрядчика
A32: =IF(TRIM(E32)<>"",COUNTA($E$10:E32)&"","") -> 23 | B32: Устройство наплавляемой гидроизоляции 2 слоя | C32: м2 | E32: =Расчет!E4+Расчет!E5 -> 551.94 | F32: =G32+H32 -> 0 | I32: =J32+K32 -> 0 | J32: =ROUND(G32*E32,2) -> 0
A33: =IF(TRIM(E33)<>"",COUNTA($E$10:E33)&"","") -> 24 | B33: Наплавляемый материал "Унифлекс ВЕНТ" (1 слой) или аналог-4 мм | C33: м2 | D33: 1.14 | E33: =E32*D33 -> 629.2116 | F33: =G33+H33 -> 0 | I33: =J33+K33 -> 0 | K33: =ROUND(H33*E33,2) -> 0 | L33: Материал подрядчика
A34: =IF(TRIM(E34)<>"",COUNTA($E$10:E34)&"","") -> 25 | B34: Наплавляемый материал "Унифлекс ЭКП" или аналог - 4 мм | C34: м2 | D34: 1.16 | E34: =E32*D34 -> 640.2504 | F34: =G34+H34 -> 0 | I34: =J34+K34 -> 0 | K34: =ROUND(H34*E34,2) -> 0 | L34: Материал подрядчика
A35: =IF(TRIM(E35)<>"",COUNTA($E$10:E35)&"","") -> 26 | B35: Пропан | C35: кг | D35: 0.6 | E35: =E32*D35 -> 331.164 | F35: =G35+H35 -> 0 | I35: =J35+K35 -> 0 | K35: =ROUND(H35*E35,2) -> 0 | L35: Материал подрядчика
A36: =IF(TRIM(E36)<>"",COUNTA($E$10:E36)&"","") -> 27 | B36: Устройство примыканий наплавляемой гидроизоляции в 2 слоя | C36: м/п | E36: =E28 -> 253 | F36: =G36+H36 -> 0 | I36: =J36+K36 -> 0 | J36: =ROUND(G36*E36,2) -> 0
A37: =IF(TRIM(E37)<>"",COUNTA($E$10:E37)&"","") -> 28 | B37: Наплавляемый материал "Унифлекс ВЕНТ" (1 слой) или аналог-4 мм | C37: м2 | D37: 1.14 | E37: =E36*0.6*D37 -> 173.052 | F37: =G37+H37 -> 0 | I37: =J37+K37 -> 0 | K37: =ROUND(H37*E37,2) -> 0 | L37: Материал подрядчика
A38: =IF(TRIM(E38)<>"",COUNTA($E$10:E38)&"","") -> 29 | B38: Наплавляемый материал "Унифлекс ЭКП" или аналог - 4 мм | C38: м2 | D38: 1.16 | E38: =E36*0.6*D38 -> 176.088 | F38: =G38+H38 -> 0 | I38: =J38+K38 -> 0 | K38: =ROUND(H38*E38,2) -> 0 | L38: Материал подрядчика
A39: =IF(TRIM(E39)<>"",COUNTA($E$10:E39)&"","") -> 30 | B39: Пропан | C39: кг | D39: 0.6 | E39: =E36*D39 -> 151.8 | F39: =G39+H39 -> 0 | I39: =J39+K39 -> 0 | K39: =ROUND(H39*E39,2) -> 0 | L39: Материал подрядчика
A40: =IF(TRIM(E40)<>"",COUNTA($E$10:E40)&"","") -> 31 | B40: Рейка краевая алюминиевая ТЕХНОНИКОЛЬ 4.8х50 | C40: м | D40: 1.03 | E40: =E36*D40 -> 260.59 | F40: =G40+H40 -> 0 | I40: =J40+K40 -> 0 | K40: =ROUND(H40*E40,2) -> 0 | L40: Материал подрядчика
...

Sheet Расчет
A2: Площади, примыкания | H2: Стяжка | N2: Зонты | O2: Кол-во
A3: Кровля секция 1,2 | B3: Тип кровли | C3: Общая площадь кровли, м2 | D3: Площадь вентшахт, м2 | E3: Площадь кровли за вычетом ВШ, м2 | F3: Длина примыканий, м | H3: Сегмент № | I3: S1 | J3: S2 | K3: S3 | L3: Общий объем стяжки, м3 | N3: Зонт -1 | O3: 1 | P3: до 1600
B4: 1 | E4: =255.51+255.61 -> 511.12 | F4: 131 | H4: Толщина t1, м | I4: =0.05 -> 0.05 | J4: =0.05 -> 0.05 | K4: =0.05 -> 0.05 | N4: Зонт -2 | O4: 2 | P4: до 1600
B5: 2 | E5: =20.41+20.41 -> 40.82 | F5: 54 | H5: Толщина t2, м | I5: =25.26-25.12 -> 0.14 | J5: =27.85-27.8 -> 0.05 | K5: 0 | N5: Зонт -3 | O5: 2 | P5: до 2200
B6: 3 | E6: =7.13+7.13 -> 14.26 | F6: 0 | N6: Зонт -4 | O6: 2 | P6: до 2400
B7: вентшахты | F7: 68 | H7: Площадь сегмента, м2 | I7: =E4 -> 511.12 | J7: =E5 -> 40.82 | K7: =E6 -> 14.26 | N7: Зонт -5 | O7: 2 | P7: свыше 2400
A8: ИТОГО | F8: =SUM(F4:F7) -> 253 | N8: Зонт -6 | O8: 1 | P8: до 1600
H9: Объем стяжки, м3 | I9: =(I7*I4)+((I7*I5)*2/3) -> 73.260533 | J9: =(J7*J4)+((J7*J5)*2/3) -> 3.4016667 | K9: =(K7*K4)+((K7*K5)*2/3) -> 0.713 | L9: =SUM(I9:K9) -> 77.3752 | N9: Зонт -7 | O9: 1 | P9: до 1600
N10: Зонт -8 | O10: 1 | P10: свыше 2400
N11: Зонт -14 | O11: 2 | P11: до 2200
O12: =SUM(O3:O11) -> 14
A14: Площади, примыкания | H14: Стяжка | N14: Зонты | O14: Кол-во
A15: Кровля секция 3 | B15: Тип кровли | C15: Общая площадь кровли, м2 | D15: Площадь вентшахт, м2 | E15: Площадь кровли за вычетом ВШ, м2 | F15: Длина примыканий, м | H15: Сегмент № | I15: S1 | J15: S2 | K15: S3 | L15: Общий объем стяжки, м3 | N15: Зонт -22 | O15: 2 | P15: до 1600
B16: 4 | E16: 126.93 | F16: 46.2 | H16: Толщина t1, м | I16: =0.05 -> 0.05 | J16: =0.05 -> 0.05 | K16: =0.05 -> 0.05 | N16: Зонт -23 | O16: 1 | P16: до 1600
E17: =C17-D17 -> 0 | F17: 0 | H17: Толщина t2, м | I17: =4.27-4.17 -> 0.1 | J17: =27.85-27.8 -> 0.05 | K17: 0
E18: =C18-D18 -> 0 | F18: 0
B19: вентшахты | F19: 8.38 | H19: Площадь сегмента, м2 | I19: =E16 -> 126.93 | J19: =E17 -> 0 | K19: =E18 -> 0
A20: ИТОГО | F20: =SUM(F16:F19) -> 54.58
H21: Объем стяжки, м3 | I21: =(I19*I16)+((I19*I17)*2/3) -> 14.8085 | J21: =(J19*J16)+((J19*J17)*2/3) -> 0 | K21: =(K19*K16)+((K19*K17)*2/3) -> 0 | L21: =SUM(I21:K21) -> 14.8085 | O21: =SUM(O15:O20) -> 3
A24: Площади, примыкания | H24: Стяжка | N24: Зонты | O24: Кол-во
A25: Кровля секция 4 | B25: Тип кровли | C25: Общая площадь кровли, м2 | D25: Площадь вентшахт, м2 | E25: Площадь кровли за вычетом ВШ, м2 | F25: Длина примыканий, м | H25: Сегмент № | I25: S1 | J25: S2 | K25: S3 | L25: Общий объем стяжки, м3 | N25: Зонт -1 | O25: 1 | P25: до 1600 | Q25: Дефшов м/у секциями | T25: 16.28 | U25: м
B26: 1 | E26: 327.08 | F26: 100.01 | H26: Толщина t1, м | I26: =0.05 -> 0.05 | J26: =0.05 -> 0.05 | K26: =0.05 -> 0.05 | N26: Зонт -2 | O26: 3 | P26: до 1600
B27: 2 | E27: 20.41 | F27: 26.64 | H27: Толщина t2, м | I27: =25.26-25.12 -> 0.14 | J27: =27.85-27.8 -> 0.05 | K27: 0 | N27: Зонт -9у | O27: 1 | P27: до 2400
B28: 3 | E28: 6.9 | F28: 0 | N28: Зонт -10 | O28: 1 | P28: до 1600
B29: вентшахты | F29: 33.49 | H29: Площадь сегмента, м2 | I29: =E26 -> 327.08 | J29: =E27 -> 20.41 | K29: =E28 -> 6.9 | N29: Зонт -11 | O29: 1 | P29: свыше 2400
A30: ИТОГО | F30: =SUM(F26:F29) -> 160.14 | N30: Зонт -12 | O30: 1 | P30: свыше 2400
H31: Объем стяжки, м3 | I31: =(I29*I26)+((I29*I27)*2/3) -> 46.881467 | J31: =(J29*J26)+((J29*J27)*2/3) -> 1.7008333 | K31: =(K29*K26)+((K29*K27)*2/3) -> 0.345 | L31: =SUM(I31:K31) -> 48.9273 | O31: =SUM(O25:O30) -> 8
A34: Площади, примыкания | H34: Стяжка | N34: Зонты | O34: Кол-во
A35: Кровля секция 5 | B35: Тип кровли | C35: Общая площадь кровли, м2 | D35: Площадь вентшахт, м2 | E35: Площадь кровли за вычетом ВШ, м2 | F35: Длина примыканий, м | H35: Сегмент № | I35: S1 | J35: S2 | K35: S3 | L35: Общий объем стяжки, м3 | N35: Зонт -1 | O35: 1 | P35: до 1600 | Q35: Дефшов м/у секциями | T35: 16.28 | U35: м
B36: 1 | E36: 428.4 | F36: 121.39 | H36: Толщина t1, м | I36: =0.05 -> 0.05 | J36: =0.05 -> 0.05 | K36: =0.05 -> 0.05 | N36: Зонт -2 | O36: 4 | P36: до 1600
B37: 2 | E37: 20.41 | F37: 26.85 | H37: Толщина t2, м | I37: =25.26-25.12 -> 0.14 | J37: =27.85-27.8 -> 0.05 | K37: 0 | N37: Зонт -10 | O37: 2 | P37: до 1600
B38: 3 | E38: 5 | F38: 0 | N38: Зонт -11 | O38: 2 | P38: свыше 2400
B39: вентшахты | F39: 48.26 | H39: Площадь сегмента, м2 | I39: =E36 -> 428.4 | J39: =E37 -> 20.41 | K39: =E38 -> 5 | N39: Зонт -15 | O39: 2 | P39: до 2200
A40: ИТОГО | F40: =SUM(F36:F39) -> 196.5 | N40: Зонт -16 | O40: 2 | P40: свыше 2400
H41: Объем стяжки, м3 | I41: =(I39*I36)+((I39*I37)*2/3) -> 61.404 | J41: =(J39*J36)+((J39*J37)*2/3) -> 1.7008333 | K41: =(K39*K36)+((K39*K37)*2/3) -> 0.25 | L41: =SUM(I41:K41) -> 63.354833
O42: =SUM(O35:O41) -> 13
A45: Площади, примыкания | H45: Стяжка | N45: Зонты | O45: Кол-во
A46: Кровля секция 6 | B46: Тип кровли | C46: Общая площадь кровли, м2 | D46: Площадь вентшахт, м2 | E46: Площадь кровли за вычетом ВШ, м2 | F46: Длина примыканий, м | H46: Сегмент № | I46: S1 | J46: S2 | K46: S3 | L46: Общий объем стяжки, м3 | N46: Зонт -1 | O46: 1 | P46: до 1600 | Q46: Дефшов м/у секциями | T46: 16.28 | U46: м
B47: 1 | E47: 429.6 | F47: 119.5 | H47: Толщина t1, м | I47: =0.05 -> 0.05 | J47: =0.05 -> 0.05 | K47: =0.05 -> 0.05 | N47: Зонт -2 | O47: 2 | P47: до 1600
B48: 2 | E48: 20.41 | F48: 26.1 | H48: Толщина t2, м | I48: =25.26-25.12 -> 0.14 | J48: =27.85-27.8 -> 0.05 | K48: 0 | N48: Зонт -17 | O48: 1 | P48: до 1600
...
