Workbook

Sheet ВОР
A1: ВЕДОМОСТЬ ОБЪЕМОВ РАБОТ
A2: на выполнение строительно-монтажных работ по устройству кровли
A3: на объекте: "Многоквартирный жилой комплекс по адресу: Краснодарский край, р-н Динской, п. Южный. 2 очередь". Литер 9
A4: № п/п | B4: Наименование работ | C4: Ед. изм. | D4: Норма расхода | E4: Объём работ | F4: Цена за ед. изм., руб. без НДС | I4: Стоимость, руб. без НДС | L4: Примечание
F5: всего | G5: в том числе | I5: всего | J5: в том числе
G6: Работа | H6: Материалы | J6: Работа | K6: Материалы
A7: 1 | B7: 2 | C7: 3 | D7: 4 | E7: 5 | F7: 6 | G7: 7 | H7: 8 | I7: 9 | J7: 10 | K7: 11 | L7: 12
B8: Кровля секция 1, 2
B9: Раздел 1. Основная кровля (Тип 1, 2)
A10: =IF(TRIM(E10)<>"",COUNTA($E10:E$10)&"","") -> 1 | B10: Огрунтовка поверхности ж/б плиты битумным праймером с учётом примыканий на 350мм | C10: м2 | E10: =Расчет!E4+Расчет!E5+0.35*E28 -> 603.409 | F10: =G10+H10 -> 0 | I10: =J10+K10 -> 0 | J10: =G10*E10 -> 0
A11: =IF(TRIM(E11)<>"",COUNTA($E$10:E11)&"","") -> 2 | B11: Праймер битумный ТЕХНОНИКОЛЬ №1 (или аналог) | C11: л | D11: 0.35 | E11: =E10*D11 -> 211.19315 | F11: =G11+H11 -> 0 | I11: =J11+K11 -> 0 | K11: =H11*E11 -> 0 | L11: Материал подрядчика
A12: =IF(TRIM(E12)<>"",COUNTA($E$10:E12)&"","") -> 3 | B12: Укладка пароизоляции с учётом примыканий на 350мм | C12: м2 | E12: =E10 -> 603.409 | F12: =G12+H12 -> 0 | I12: =J12+K12 -> 0 | J12: =G12*E12 -> 0
A13: =IF(TRIM(E13)<>"",COUNTA($E$10:E13)&"","") -> 4 | B13: Наплавляемый материал "Линокром ЭПП" (1 слой) или аналог-4 мм | C13: м2 | D13: 1.15 | E13: =E12*D13 -> 693.92035 | F13: =G13+H13 -> 0 | I13: =J13+K13 -> 0 | K13: =H13*E13 -> 0 | L13: Материал подрядчика
A14: =IF(TRIM(E14)<>"",COUNTA($E$10:E14)&"","") -> 5 | B14: Пропан | C14: кг | D14: 0.3 | E14: =E12*D14 -> 181.0227 | F14: =G14+H14 -> 0 | I14: =J14+K14 -> 0 | K14: =H14*E14 -> 0 | L14: Материал подрядчика
A15: =IF(TRIM(E15)<>"",COUNTA($E$10:E15)&"","") -> 6 | B15: Устройство утепления 100мм | C15: м2 | E15: =Расчет!E4+Расчет!E5 -> 519.92 | F15: =G15+H15 -> 0 | I15: =J15+K15 -> 0 | J15: =G15*E15 -> 0
A16: =IF(TRIM(E16)<>"",COUNTA($E$10:E16)&"","") -> 7 | B16: Экструзионный пенополистирол 100 мм. | C16: м3 | D16: 1.1 | E16: =E15*0.1*D16 -> 57.1912 | F16: =G16+H16 -> 0 | I16: =J16+K16 -> 0 | K16: =H16*E16 -> 0 | L16: Материал подрядчика
A17: =IF(TRIM(E17)<>"",COUNTA($E$10:E17)&"","") -> 8 | B17: Устройство утепления 50мм | C17: м2 | E17: =E28*0.47 -> 112.1138 | F17: =G17+H17 -> 0 | I17: =J17+K17 -> 0 | J17: =G17*E17 -> 0
A18: =IF(TRIM(E18)<>"",COUNTA($E$10:E18)&"","") -> 9 | B18: Утеплитель ТЕХНОФАС ЭКСТРА 50 мм | C18: м3 | D18: 1.03 | E18: =E17*0.05*D18 -> 5.7738607 | F18: =G18+H18 -> 0 | I18: =J18+K18 -> 0 | K18: =H18*E18 -> 0 | L18: Материал подрядчика
A19: =IF(TRIM(E19)<>"",COUNTA($E$10:E19)&"","") -> 10 | B19: Фасадный крепеж TERMOCLIP | C19: шт | D19: 5 | E19: =ROUND(E17*D19,0) -> 561 | F19: =G19+H19 -> 0 | I19: =J19+K19 -> 0 | K19: =H19*E19 -> 0 | L19: Материал подрядчика
A20: =IF(TRIM(E20)<>"",COUNTA($E$10:E20)&"","") -> 11 | B20: Штукатурка стен ЦПС М150 по сетке | C20: м2 | E20: =E17 -> 112.1138 | F20: =G20+H20 -> 0 | I20: =J20+K20 -> 0 | J20: =G20*E20 -> 0
A21: =IF(TRIM(E21)<>"",COUNTA($E$10:E21)&"","") -> 12 | B21: Раствор цементно-песчаный М150 | C21: м3 | D21: 1.015 | E21: =E20*0.02*D21 -> 2.2759101 | F21: =G21+H21 -> 0 | I21: =J21+K21 -> 0 | K21: =H21*E21 -> 0 | L21: Материал подрядчика
A22: =IF(TRIM(E22)<>"",COUNTA($E$10:E22)&"","") -> 13 | B22: Сетка 5 Вр1 с ячейкой 100х100 | C22: м2 | D22: 1.2 | E22: =E20*D22 -> 134.53656 | F22: =G22+H22 -> 0 | I22: =J22+K22 -> 0 | K22: =H22*E22 -> 0 | L22: Материал подрядчика
A23: =IF(TRIM(E23)<>"",COUNTA($E$10:E23)&"","") -> 14 | B23: Устройство слоя пароизоляции | C23: м2 | E23: =E15 -> 519.92 | F23: =G23+H23 -> 0 | I23: =J23+K23 -> 0 | J23: =G23*E23 -> 0
A24: =IF(TRIM(E24)<>"",COUNTA($E$10:E24)&"","") -> 15 | B24: Пароизоляционная пленка 200 мкм | C24: м2 | D24: 1.15 | E24: =E23*D24 -> 597.908 | F24: =G24+H24 -> 0 | I24: =J24+K24 -> 0 | K24: =H24*E24 -> 0 | L24: Материал подрядчика
A25: =IF(TRIM(E25)<>"",COUNTA($E$10:E25)&"","") -> 16 | B25: Устройство цементно-песчаной стяжки М 150 армированная сеткой 4 Вр1 с ячейкой 200х200 - толщ. от 50 мм до 100 мм, по уклону | C25: м2 | E25: =Расчет!E4+Расчет!E5 -> 519.92 | F25: =G25+H25 -> 0 | I25: =J25+K25 -> 0 | J25: =G25*E25 -> 0
A26: =IF(TRIM(E26)<>"",COUNTA($E$10:E26)&"","") -> 17 | B26: Раствор цементно-песчаный М150 | C26: м3 | D26: 1.015 | E26: =(Расчет!L9-Расчет!K9)*D26 -> 73.153757 | F26: =G26+H26 -> 0 | I26: =J26+K26 -> 0 | K26: =H26*E26 -> 0 | L26: Материал подрядчика
A27: =IF(TRIM(E27)<>"",COUNTA($E$10:E27)&"","") -> 18 | B27: Сетка 4 Вр1 с ячейкой 200х200 | C27: м2 | D27: 1.2 | E27: =E25*D27 -> 623.904 | F27: =G27+H27 -> 0 | I27: =J27+K27 -> 0 | K27: =H27*E27 -> 0 | L27: Материал подрядчика
A28: =IF(TRIM(E28)<>"",COUNTA($E$10:E28)&"","") -> 19 | B28: Устройство галтели из цементно-песчаной стяжки М 150 , 100х100 | C28: м/п | E28: =Расчет!F8 -> 238.54 | F28: =G28+H28 -> 0 | I28: =J28+K28 -> 0 | J28: =G28*E28 -> 0
A29: =IF(TRIM(E29)<>"",COUNTA($E$10:E29)&"","") -> 20 | B29: Раствор цементно-песчаный М150 | C29: м3 | D29: 0.005 | E29: =D29*E28 -> 1.1927 | F29: =G29+H29 -> 0 | I29: =J29+K29 -> 0 | K29: =H29*E29 -> 0 | L29: Материал подрядчика
A30: =IF(TRIM(E30)<>"",COUNTA($E$10:E30)&"","") -> 21 | B30: Огрунтовка поверхности ж/б плиты битумным праймером с учётом примыканий на 350мм | C30: м2 | E30: =E10 -> 603.409 | F30: =G30+H30 -> 0 | I30: =J30+K30 -> 0 | J30: =G30*E30 -> 0
A31: =IF(TRIM(E31)<>"",COUNTA($E$10:E31)&"","") -> 22 | B31: Праймер битумный ТЕХНОНИКОЛЬ №1 (или аналог) | C31: л | D31: 0.35 | E31: =E30*D31 -> 211.19315 | F31: =G31+H31 -> 0 | I31: =J31+K31 -> 0 | K31: =H31*E31 -> 0 | L31: Материал подрядчика
A32: =IF(TRIM(E32)<>"",COUNTA($E$10:E32)&"","") -> 23 | B32: Устройство наплавляемой гидроизоляции 2 слоя | C32: м2 | E32: =Расчет!E4+Расчет!E5 -> 519.92 | F32: =G32+H32 -> 0 | I32: =J32+K32 -> 0 | J32: =G32*E32 -> 0
A33: =IF(TRIM(E33)<>"",COUNTA($E$10:E33)&"","") -> 24 | B33: Наплавляемый материал "Унифлекс ВЕНТ" (1 слой) или аналог-4 мм | C33: м2 | D33: 1.14 | E33: =E32*D33 -> 592.7088 | F33: =G33+H33 -> 0 | I33: =J33+K33 -> 0 | K33: =H33*E33 -> 0 | L33: Материал подрядчика
A34: =IF(TRIM(E34)<>"",COUNTA($E$10:E34)&"","") -> 25 | B34: Наплавляемый материал "Унифлекс ЭКП" или аналог - 4 мм | C34: м2 | D34: 1.16 | E34: =E32*D34 -> 603.1072 | F34: =G34+H34 -> 0 | I34: =J34+K34 -> 0 | K34: =H34*E34 -> 0 | L34: Материал подрядчика
A35: =IF(TRIM(E35)<>"",COUNTA($E$10:E35)&"","") -> 26 | B35: Пропан | C35: кг | D35: 0.6 | E35: =E32*D35 -> 311.952 | F35: =G35+H35 -> 0 | I35: =J35+K35 -> 0 | K35: =H35*E35 -> 0 | L35: Материал подрядчика
A36: =IF(TRIM(E36)<>"",COUNTA($E$10:E36)&"","") -> 27 | B36: Устройство примыканий наплавляемой гидроизоляции в 2 слоя | C36: м/п | E36: =E28 -> 238.54 | F36: =G36+H36 -> 0 | I36: =J36+K36 -> 0 | J36: =G36*E36 -> 0
A37: =IF(TRIM(E37)<>"",COUNTA($E$10:E37)&"","") -> 28 | B37: Наплавляемый материал "Унифлекс ВЕНТ" (1 слой) или аналог-4 мм | C37: м2 | D37: 1.14 | E37: =E36*0.6*D37 -> 163.16136 | F37: =G37+H37 -> 0 | I37: =J37+K37 -> 0 | K37: =H37*E37 -> 0 | L37: Материал подрядчика
A38: =IF(TRIM(E38)<>"",COUNTA($E$10:E38)&"","") -> 29 | B38: Наплавляемый материал "Унифлекс ЭКП" или аналог - 4 мм | C38: м2 | D38: 1.16 | E38: =E36*0.6*D38 -> 166.02384 | F38: =G38+H38 -> 0 | I38: =J38+K38 -> 0 | K38: =H38*E38 -> 0 | L38: Материал подрядчика
A39: =IF(TRIM(E39)<>"",COUNTA($E$10:E39)&"","") -> 30 | B39: Пропан | C39: кг | D39: 0.6 | E39: =E36*D39 -> 143.124 | F39: =G39+H39 -> 0 | I39: =J39+K39 -> 0 | K39: =H39*E39 -> 0 | L39: Материал подрядчика
A40: =IF(TRIM(E40)<>"",COUNTA($E$10:E40)&"","") -> 31 | B40: Рейка краевая алюминиевая ТЕХНОНИКОЛЬ 4.8х50 | C40: м | D40: 1.03 | E40: =E36*D40 -> 245.6962 | F40: =G40+H40 -> 0 | I40: =J40+K40 -> 0 | K40: =H40*E40 -> 0 | L40: Материал подрядчика
...

Sheet Расчет
A2: Площади, примыкания | H2: Стяжка | N2: Зонты | O2: Кол-во
A3: Кровля секция 1,2 | B3: Тип кровли | C3: Общая площадь кровли, м2 | D3: Площадь вентшахт, м2 | E3: Площадь кровли за вычетом ВШ, м2 | F3: Длина примыканий, м | H3: Сегмент № | I3: S1 | J3: S2 | K3: S3 | L3: Общий объем стяжки, м3 | N3: Зонт -1 | O3: 3 | P3: *
B4: 1 | E4: =239.4+239.7 -> 479.1 | F4: 130.69 | H4: Толщина t1, м | I4: =0.05 -> 0.05 | J4: =0.05 -> 0.05 | K4: =0.05 -> 0.05 | N4: Зонт -2 | O4: 2 | P4: *
B5: 2 | E5: =20.41+20.41 -> 40.82 | F5: 53.29 | H5: Толщина t2, м | I5: =25.26-25.12 -> 0.14 | J5: =27.85-27.8 -> 0.05 | K5: 0 | N5: Зонт -10 | O5: 3 | P5: *
B6: 3 | E6: =7.13+7.13 -> 14.26 | F6: 0 | N6: Зонт -11 | O6: 2 | P6: *
B7: вентшахты | F7: 54.56 | H7: Площадь сегмента, м2 | I7: =E4 -> 479.1 | J7: =E5 -> 40.82 | K7: =E6 -> 14.26 | N7: Зонт -12 | O7: 2 | P7: *
A8: ИТОГО | F8: =SUM(F4:F7) -> 238.54 | N8: Зонт -13 | O8: 1 | P8: *
H9: Объем стяжки, м3 | I9: =(I7*I4)+((I7*I5)*2/3) -> 68.671 | J9: =(J7*J4)+((J7*J5)*2/3) -> 3.4016667 | K9: =(K7*K4)+((K7*K5)*2/3) -> 0.713 | L9: =SUM(I9:K9) -> 72.785667 | N9: Зонт -ЗУ1 | O9: 1 | P9: *
O10: =SUM(O3:O9) -> 14
